BEGIN:VCALENDAR
VERSION:2.0
PRODID:-//Bay Ridge Prep - ECPv6.15.20//NONSGML v1.0//EN
CALSCALE:GREGORIAN
METHOD:PUBLISH
X-WR-CALNAME:Bay Ridge Prep
X-ORIGINAL-URL:https://bayridgeprep.org
X-WR-CALDESC:Events for Bay Ridge Prep
REFRESH-INTERVAL;VALUE=DURATION:PT1H
X-Robots-Tag:noindex
X-PUBLISHED-TTL:PT1H
BEGIN:VTIMEZONE
TZID:America/New_York
BEGIN:DAYLIGHT
TZOFFSETFROM:-0500
TZOFFSETTO:-0400
TZNAME:EDT
DTSTART:20250309T070000
END:DAYLIGHT
BEGIN:STANDARD
TZOFFSETFROM:-0400
TZOFFSETTO:-0500
TZNAME:EST
DTSTART:20251102T060000
END:STANDARD
BEGIN:DAYLIGHT
TZOFFSETFROM:-0500
TZOFFSETTO:-0400
TZNAME:EDT
DTSTART:20260308T070000
END:DAYLIGHT
BEGIN:STANDARD
TZOFFSETFROM:-0400
TZOFFSETTO:-0500
TZNAME:EST
DTSTART:20261101T060000
END:STANDARD
BEGIN:DAYLIGHT
TZOFFSETFROM:-0500
TZOFFSETTO:-0400
TZNAME:EDT
DTSTART:20270314T070000
END:DAYLIGHT
BEGIN:STANDARD
TZOFFSETFROM:-0400
TZOFFSETTO:-0500
TZNAME:EST
DTSTART:20271107T060000
END:STANDARD
END:VTIMEZONE
BEGIN:VEVENT
DTSTART;VALUE=DATE:20260415
DTEND;VALUE=DATE:20260416
DTSTAMP:20260421T082451
CREATED:20250619T223553Z
LAST-MODIFIED:20260420T200345Z
UID:10002379-1776211200-1776297599@bayridgeprep.org
SUMMARY:Grade 12: Senior Trip
DESCRIPTION:
URL:https://bayridgeprep.org/event/grade-12-senior-trip-5/
END:VEVENT
BEGIN:VEVENT
DTSTART;VALUE=DATE:20260415
DTEND;VALUE=DATE:20260416
DTSTAMP:20260421T082451
CREATED:20250725T175549Z
LAST-MODIFIED:20260420T200345Z
UID:10002692-1776211200-1776297599@bayridgeprep.org
SUMMARY:US Wednesday WK2
DESCRIPTION:
URL:https://bayridgeprep.org/event/ms-wednesday-wk2-48/
END:VEVENT
BEGIN:VEVENT
DTSTART;VALUE=DATE:20260415
DTEND;VALUE=DATE:20260416
DTSTAMP:20260421T082451
CREATED:20250725T175549Z
LAST-MODIFIED:20260420T200345Z
UID:10002693-1776211200-1776297599@bayridgeprep.org
SUMMARY:MS Wednesday WK2
DESCRIPTION:
URL:https://bayridgeprep.org/event/us-wednesday-wk2-45/
END:VEVENT
BEGIN:VEVENT
DTSTART;VALUE=DATE:20260415
DTEND;VALUE=DATE:20260416
DTSTAMP:20260421T082451
CREATED:20251212T121735Z
LAST-MODIFIED:20260420T211719Z
UID:10003135-1776211200-1776297599@bayridgeprep.org
SUMMARY:CANCELLED: Varsity Baseball at BWL (A)
DESCRIPTION:CANCELLED: Varsity Baseball at BWL (A)
URL:https://bayridgeprep.org/event/varsity-baseball-at-bwl-a/
LOCATION:Birch Wathen Lenox School\, United States
CATEGORIES:Baseball - Varsity
END:VEVENT
END:VCALENDAR