BEGIN:VCALENDAR
VERSION:2.0
PRODID:-//Bay Ridge Prep - ECPv6.15.20//NONSGML v1.0//EN
CALSCALE:GREGORIAN
METHOD:PUBLISH
X-ORIGINAL-URL:https://bayridgeprep.org
X-WR-CALDESC:Events for Bay Ridge Prep
REFRESH-INTERVAL;VALUE=DURATION:PT1H
X-Robots-Tag:noindex
X-PUBLISHED-TTL:PT1H
BEGIN:VTIMEZONE
TZID:America/New_York
BEGIN:DAYLIGHT
TZOFFSETFROM:-0500
TZOFFSETTO:-0400
TZNAME:EDT
DTSTART:20240310T070000
END:DAYLIGHT
BEGIN:STANDARD
TZOFFSETFROM:-0400
TZOFFSETTO:-0500
TZNAME:EST
DTSTART:20241103T060000
END:STANDARD
BEGIN:DAYLIGHT
TZOFFSETFROM:-0500
TZOFFSETTO:-0400
TZNAME:EDT
DTSTART:20250309T070000
END:DAYLIGHT
BEGIN:STANDARD
TZOFFSETFROM:-0400
TZOFFSETTO:-0500
TZNAME:EST
DTSTART:20251102T060000
END:STANDARD
BEGIN:DAYLIGHT
TZOFFSETFROM:-0500
TZOFFSETTO:-0400
TZNAME:EDT
DTSTART:20260308T070000
END:DAYLIGHT
BEGIN:STANDARD
TZOFFSETFROM:-0400
TZOFFSETTO:-0500
TZNAME:EST
DTSTART:20261101T060000
END:STANDARD
END:VTIMEZONE
BEGIN:VEVENT
DTSTART;TZID=America/New_York:20251113T161500
DTEND;TZID=America/New_York:20251113T161500
DTSTAMP:20260422T181817
CREATED:20251009T190228Z
LAST-MODIFIED:20260422T140223Z
UID:10003038-1763050500-1763050500@bayridgeprep.org
SUMMARY:Varsity Girls Basketball at Berkeley Ca
DESCRIPTION:Varsity Girls Basketball at Berkeley Ca
URL:https://bayridgeprep.org/event/varsity-girls-basketball-at-berkeley-ca-2/
LOCATION:Berkeley Carroll School
CATEGORIES:Basketball - Girls Varsity
END:VEVENT
BEGIN:VEVENT
DTSTART;TZID=America/New_York:20251117T161500
DTEND;TZID=America/New_York:20251117T161500
DTSTAMP:20260422T181817
CREATED:20250823T170229Z
LAST-MODIFIED:20260422T140223Z
UID:10002904-1763396100-1763396100@bayridgeprep.org
SUMMARY:CANCELLED: Varsity Girls Basketball at Avenues (A)
DESCRIPTION:CANCELLED: Varsity Girls Basketball at Avenues (A)
URL:https://bayridgeprep.org/event/varsity-girls-basketball-at-avenues-a/
LOCATION:Avenues\, 259 10th Avenue\, New York\, 10001-7020\, United States
CATEGORIES:Basketball - Girls Varsity
GEO:40.7496021;-74.0032553
X-APPLE-STRUCTURED-LOCATION;VALUE=URI;X-ADDRESS=Avenues 259 10th Avenue New York 10001-7020 United States;X-APPLE-RADIUS=500;X-TITLE=259 10th Avenue:geo:-74.0032553,40.7496021
END:VEVENT
BEGIN:VEVENT
DTSTART;TZID=America/New_York:20251119T160000
DTEND;TZID=America/New_York:20251119T160000
DTSTAMP:20260422T181817
CREATED:20250823T170229Z
LAST-MODIFIED:20251008T190230Z
UID:10002905-1763568000-1763568000@bayridgeprep.org
SUMMARY:Varsity Girls Basketball at Berkeley Ca
DESCRIPTION:Varsity Girls Basketball at Berkeley Ca
URL:https://bayridgeprep.org/event/varsity-girls-basketball-at-berkeley-ca/
LOCATION:Berkeley Carroll School
CATEGORIES:Basketball - Girls Varsity
END:VEVENT
END:VCALENDAR