BEGIN:VCALENDAR
VERSION:2.0
PRODID:-//Bay Ridge Prep - ECPv6.15.20//NONSGML v1.0//EN
CALSCALE:GREGORIAN
METHOD:PUBLISH
X-ORIGINAL-URL:https://bayridgeprep.org
X-WR-CALDESC:Events for Bay Ridge Prep
REFRESH-INTERVAL;VALUE=DURATION:PT1H
X-Robots-Tag:noindex
X-PUBLISHED-TTL:PT1H
BEGIN:VTIMEZONE
TZID:America/New_York
BEGIN:DAYLIGHT
TZOFFSETFROM:-0500
TZOFFSETTO:-0400
TZNAME:EDT
DTSTART:20240310T070000
END:DAYLIGHT
BEGIN:STANDARD
TZOFFSETFROM:-0400
TZOFFSETTO:-0500
TZNAME:EST
DTSTART:20241103T060000
END:STANDARD
BEGIN:DAYLIGHT
TZOFFSETFROM:-0500
TZOFFSETTO:-0400
TZNAME:EDT
DTSTART:20250309T070000
END:DAYLIGHT
BEGIN:STANDARD
TZOFFSETFROM:-0400
TZOFFSETTO:-0500
TZNAME:EST
DTSTART:20251102T060000
END:STANDARD
BEGIN:DAYLIGHT
TZOFFSETFROM:-0500
TZOFFSETTO:-0400
TZNAME:EDT
DTSTART:20260308T070000
END:DAYLIGHT
BEGIN:STANDARD
TZOFFSETFROM:-0400
TZOFFSETTO:-0500
TZNAME:EST
DTSTART:20261101T060000
END:STANDARD
END:VTIMEZONE
BEGIN:VEVENT
DTSTART;TZID=America/New_York:20251201T161500
DTEND;TZID=America/New_York:20251201T161500
DTSTAMP:20260422T181827
CREATED:20250823T170229Z
LAST-MODIFIED:20251109T204729Z
UID:10002906-1764605700-1764605700@bayridgeprep.org
SUMMARY:Varsity Girls Basketball vs BWL (H)
DESCRIPTION:Varsity Girls Basketball vs BWL (H)
URL:https://bayridgeprep.org/event/varsity-girls-basketball-vs-bwl-h-3/
LOCATION:Our Lady of Angels Main Gym
CATEGORIES:Basketball - Girls Varsity
END:VEVENT
BEGIN:VEVENT
DTSTART;TZID=America/New_York:20251201T164500
DTEND;TZID=America/New_York:20251201T164500
DTSTAMP:20260422T181827
CREATED:20251110T204723Z
LAST-MODIFIED:20260422T140224Z
UID:10003075-1764607500-1764607500@bayridgeprep.org
SUMMARY:Varsity Girls Basketball vs BWL (H)
DESCRIPTION:Varsity Girls Basketball vs BWL (H)
URL:https://bayridgeprep.org/event/varsity-girls-basketball-vs-bwl-h-4/
LOCATION:Our Lady of Angels Main Gym
CATEGORIES:Basketball - Girls Varsity
END:VEVENT
BEGIN:VEVENT
DTSTART;VALUE=DATE:20251202
DTEND;VALUE=DATE:20251203
DTSTAMP:20260422T181827
CREATED:20250823T170229Z
LAST-MODIFIED:20251108T204727Z
UID:10002907-1764633600-1764719999@bayridgeprep.org
SUMMARY:Varsity Girls Basketball at York Prep (A)
DESCRIPTION:Varsity Girls Basketball at York Prep (A)
URL:https://bayridgeprep.org/event/varsity-girls-basketball-at-york-prep-a-3/
LOCATION:York Prep School\, 40 W 68th Street\, New York\, 10023-6054\, United States
CATEGORIES:Basketball - Girls Varsity
GEO:40.774082;-73.9794676
X-APPLE-STRUCTURED-LOCATION;VALUE=URI;X-ADDRESS=York Prep School 40 W 68th Street New York 10023-6054 United States;X-APPLE-RADIUS=500;X-TITLE=40 W 68th Street:geo:-73.9794676,40.774082
END:VEVENT
BEGIN:VEVENT
DTSTART;TZID=America/New_York:20251202T160000
DTEND;TZID=America/New_York:20251202T160000
DTSTAMP:20260422T181827
CREATED:20251109T204729Z
LAST-MODIFIED:20260422T140224Z
UID:10003067-1764691200-1764691200@bayridgeprep.org
SUMMARY:Varsity Girls Basketball at York Prep (A)
DESCRIPTION:Varsity Girls Basketball at York Prep (A)
URL:https://bayridgeprep.org/event/varsity-girls-basketball-at-york-prep-a-4/
LOCATION:York Prep School\, 40 W 68th Street\, New York\, 10023-6054\, United States
CATEGORIES:Basketball - Girls Varsity
GEO:40.774082;-73.9794676
X-APPLE-STRUCTURED-LOCATION;VALUE=URI;X-ADDRESS=York Prep School 40 W 68th Street New York 10023-6054 United States;X-APPLE-RADIUS=500;X-TITLE=40 W 68th Street:geo:-73.9794676,40.774082
END:VEVENT
BEGIN:VEVENT
DTSTART;VALUE=DATE:20251204
DTEND;VALUE=DATE:20251205
DTSTAMP:20260422T181827
CREATED:20250823T170230Z
LAST-MODIFIED:20251109T204730Z
UID:10002908-1764806400-1764892799@bayridgeprep.org
SUMMARY:Varsity Girls Basketball Columbia Prep Tip Off Tournament
DESCRIPTION:Varsity Girls Basketball Columbia Prep Tip Off Tournament
URL:https://bayridgeprep.org/event/varsity-girls-basketball-columbia-prep-tip-off-tournament/
LOCATION:Columbia Preparatory\, United States
CATEGORIES:Basketball - Girls Varsity
END:VEVENT
BEGIN:VEVENT
DTSTART;TZID=America/New_York:20251204T153000
DTEND;TZID=America/New_York:20251204T153000
DTSTAMP:20260422T181827
CREATED:20251117T210229Z
LAST-MODIFIED:20260422T140224Z
UID:10003107-1764862200-1764862200@bayridgeprep.org
SUMMARY:Varsity Girls Basketball Columbia Prep Tip Off Tournament
DESCRIPTION:Varsity Girls Basketball Columbia Prep Tip Off Tournament
URL:https://bayridgeprep.org/event/varsity-girls-basketball-columbia-prep-tip-off-tournament-4/
LOCATION:Columbia Preparatory\, United States
CATEGORIES:Basketball - Girls Varsity
END:VEVENT
BEGIN:VEVENT
DTSTART;TZID=America/New_York:20251204T171500
DTEND;TZID=America/New_York:20251204T171500
DTSTAMP:20260422T181827
CREATED:20251110T204724Z
LAST-MODIFIED:20251116T210311Z
UID:10003076-1764868500-1764868500@bayridgeprep.org
SUMMARY:Varsity Girls Basketball Columbia Prep Tip Off Tournament
DESCRIPTION:Varsity Girls Basketball Columbia Prep Tip Off Tournament
URL:https://bayridgeprep.org/event/varsity-girls-basketball-columbia-prep-tip-off-tournament-3/
LOCATION:Columbia Preparatory\, United States
CATEGORIES:Basketball - Girls Varsity
END:VEVENT
BEGIN:VEVENT
DTSTART;VALUE=DATE:20251205
DTEND;VALUE=DATE:20251206
DTSTAMP:20260422T181827
CREATED:20250823T170230Z
LAST-MODIFIED:20260422T140225Z
UID:10002909-1764892800-1764979199@bayridgeprep.org
SUMMARY:Varsity Girls Basketball Columbia Prep Tip Off Tournament
DESCRIPTION:Varsity Girls Basketball Columbia Prep Tip Off Tournament
URL:https://bayridgeprep.org/event/varsity-girls-basketball-columbia-prep-tip-off-tournament-2/
LOCATION:Columbia Preparatory\, United States
CATEGORIES:Basketball - Girls Varsity
END:VEVENT
BEGIN:VEVENT
DTSTART;TZID=America/New_York:20251208T161500
DTEND;TZID=America/New_York:20251208T161500
DTSTAMP:20260422T181827
CREATED:20250823T170230Z
LAST-MODIFIED:20251109T204730Z
UID:10002910-1765210500-1765210500@bayridgeprep.org
SUMMARY:Varsity Girls Basketball vs LREI (H)
DESCRIPTION:Varsity Girls Basketball vs LREI (H)
URL:https://bayridgeprep.org/event/varsity-girls-basketball-vs-lrei-h-2/
LOCATION:Our Lady of Angels Main Gym
CATEGORIES:Basketball - Girls Varsity
END:VEVENT
BEGIN:VEVENT
DTSTART;TZID=America/New_York:20251208T164500
DTEND;TZID=America/New_York:20251208T164500
DTSTAMP:20260422T181827
CREATED:20251110T204724Z
LAST-MODIFIED:20260422T140225Z
UID:10003077-1765212300-1765212300@bayridgeprep.org
SUMMARY:Varsity Girls Basketball vs LREI (H)
DESCRIPTION:Varsity Girls Basketball vs LREI (H)
URL:https://bayridgeprep.org/event/varsity-girls-basketball-vs-lrei-h-3/
LOCATION:Our Lady of Angels Main Gym
CATEGORIES:Basketball - Girls Varsity
END:VEVENT
BEGIN:VEVENT
DTSTART;TZID=America/New_York:20251209T160000
DTEND;TZID=America/New_York:20251209T160000
DTSTAMP:20260422T181827
CREATED:20251208T221800Z
LAST-MODIFIED:20260422T140225Z
UID:10003122-1765296000-1765296000@bayridgeprep.org
SUMMARY:Varsity Girls Basketball vs Garden (H)
DESCRIPTION:Varsity Girls Basketball vs Garden (H)
URL:https://bayridgeprep.org/event/varsity-girls-basketball-vs-garden-h-2/
LOCATION:Our Lady of Angels Main Gym
CATEGORIES:Basketball - Girls Varsity
END:VEVENT
BEGIN:VEVENT
DTSTART;TZID=America/New_York:20251209T161500
DTEND;TZID=America/New_York:20251209T161500
DTSTAMP:20260422T181827
CREATED:20250823T170231Z
LAST-MODIFIED:20251207T221724Z
UID:10002911-1765296900-1765296900@bayridgeprep.org
SUMMARY:Varsity Girls Basketball vs Garden (H)
DESCRIPTION:Varsity Girls Basketball vs Garden (H)
URL:https://bayridgeprep.org/event/varsity-girls-basketball-vs-garden-h/
LOCATION:Our Lady of Angels Main Gym
CATEGORIES:Basketball - Girls Varsity
END:VEVENT
BEGIN:VEVENT
DTSTART;TZID=America/New_York:20251211T161500
DTEND;TZID=America/New_York:20251211T161500
DTSTAMP:20260422T181827
CREATED:20251110T204725Z
LAST-MODIFIED:20260422T140225Z
UID:10003078-1765469700-1765469700@bayridgeprep.org
SUMMARY:Varsity Girls Basketball vs Scholars Academy (H)
DESCRIPTION:Varsity Girls Basketball vs Scholars Academy (H)
URL:https://bayridgeprep.org/event/varsity-girls-basketball-vs-scholars-academy-h/
LOCATION:Our Lady of Angels Main Gym
CATEGORIES:Basketball - Girls Varsity
END:VEVENT
BEGIN:VEVENT
DTSTART;VALUE=DATE:20251218
DTEND;VALUE=DATE:20251219
DTSTAMP:20260422T181827
CREATED:20250823T170231Z
LAST-MODIFIED:20251019T194735Z
UID:10002912-1766016000-1766102399@bayridgeprep.org
SUMMARY:Varsity Girls Basketball at Garden (A)
DESCRIPTION:Varsity Girls Basketball at Garden (A)
URL:https://bayridgeprep.org/event/varsity-girls-basketball-at-garden-a/
LOCATION:Garden School\, 3316 79th Street\, Jackson Heights\, 11372-1230\, United States
CATEGORIES:Basketball - Girls Varsity
GEO:40.7544226;-73.8885273
X-APPLE-STRUCTURED-LOCATION;VALUE=URI;X-ADDRESS=Garden School 3316 79th Street Jackson Heights 11372-1230 United States;X-APPLE-RADIUS=500;X-TITLE=3316 79th Street:geo:-73.8885273,40.7544226
END:VEVENT
BEGIN:VEVENT
DTSTART;TZID=America/New_York:20251218T170000
DTEND;TZID=America/New_York:20251218T170000
DTSTAMP:20260422T181827
CREATED:20251020T194741Z
LAST-MODIFIED:20260422T140226Z
UID:10003054-1766077200-1766077200@bayridgeprep.org
SUMMARY:Varsity Girls Basketball at Garden (A)
DESCRIPTION:Varsity Girls Basketball at Garden (A)
URL:https://bayridgeprep.org/event/varsity-girls-basketball-at-garden-a-2/
LOCATION:Garden School\, 3316 79th Street\, Jackson Heights\, 11372-1230\, United States
CATEGORIES:Basketball - Girls Varsity
GEO:40.7544226;-73.8885273
X-APPLE-STRUCTURED-LOCATION;VALUE=URI;X-ADDRESS=Garden School 3316 79th Street Jackson Heights 11372-1230 United States;X-APPLE-RADIUS=500;X-TITLE=3316 79th Street:geo:-73.8885273,40.7544226
END:VEVENT
END:VCALENDAR