BEGIN:VCALENDAR
VERSION:2.0
PRODID:-//Bay Ridge Prep - ECPv6.15.20//NONSGML v1.0//EN
CALSCALE:GREGORIAN
METHOD:PUBLISH
X-WR-CALNAME:Bay Ridge Prep
X-ORIGINAL-URL:https://bayridgeprep.org
X-WR-CALDESC:Events for Bay Ridge Prep
REFRESH-INTERVAL;VALUE=DURATION:PT1H
X-Robots-Tag:noindex
X-PUBLISHED-TTL:PT1H
BEGIN:VTIMEZONE
TZID:America/New_York
BEGIN:DAYLIGHT
TZOFFSETFROM:-0500
TZOFFSETTO:-0400
TZNAME:EDT
DTSTART:20250309T070000
END:DAYLIGHT
BEGIN:STANDARD
TZOFFSETFROM:-0400
TZOFFSETTO:-0500
TZNAME:EST
DTSTART:20251102T060000
END:STANDARD
BEGIN:DAYLIGHT
TZOFFSETFROM:-0500
TZOFFSETTO:-0400
TZNAME:EDT
DTSTART:20260308T070000
END:DAYLIGHT
BEGIN:STANDARD
TZOFFSETFROM:-0400
TZOFFSETTO:-0500
TZNAME:EST
DTSTART:20261101T060000
END:STANDARD
BEGIN:DAYLIGHT
TZOFFSETFROM:-0500
TZOFFSETTO:-0400
TZNAME:EDT
DTSTART:20270314T070000
END:DAYLIGHT
BEGIN:STANDARD
TZOFFSETFROM:-0400
TZOFFSETTO:-0500
TZNAME:EST
DTSTART:20271107T060000
END:STANDARD
END:VTIMEZONE
BEGIN:VEVENT
DTSTART;VALUE=DATE:20260120
DTEND;VALUE=DATE:20260121
DTSTAMP:20260420T090659
CREATED:20250823T170244Z
LAST-MODIFIED:20251109T204749Z
UID:10002927-1768867200-1768953599@bayridgeprep.org
SUMMARY:Varsity Girls Basketball at LREI (A)
DESCRIPTION:Varsity Girls Basketball at LREI (A)
URL:https://bayridgeprep.org/event/varsity-girls-basketball-at-lrei-a-3/
LOCATION:LREI Thompson Street Gym\, 145 Thompson Street\, New York\, 10012-3110\, United States
CATEGORIES:Basketball - Girls Varsity
GEO:40.7269224;-74.0012356
X-APPLE-STRUCTURED-LOCATION;VALUE=URI;X-ADDRESS=LREI Thompson Street Gym 145 Thompson Street New York 10012-3110 United States;X-APPLE-RADIUS=500;X-TITLE=145 Thompson Street:geo:-74.0012356,40.7269224
END:VEVENT
BEGIN:VEVENT
DTSTART;TZID=America/New_York:20260120T153000
DTEND;TZID=America/New_York:20260120T153000
DTSTAMP:20260420T090659
CREATED:20251110T204744Z
LAST-MODIFIED:20260419T140302Z
UID:10003081-1768923000-1768923000@bayridgeprep.org
SUMMARY:POSTPONED: Varsity Girls Basketball at LREI (A)
DESCRIPTION:POSTPONED: Varsity Girls Basketball at LREI (A)
URL:https://bayridgeprep.org/event/varsity-girls-basketball-at-lrei-a-4/
LOCATION:LREI Thompson Street Gym\, 145 Thompson Street\, New York\, 10012-3110\, United States
CATEGORIES:Basketball - Girls Varsity
GEO:40.7269224;-74.0012356
X-APPLE-STRUCTURED-LOCATION;VALUE=URI;X-ADDRESS=LREI Thompson Street Gym 145 Thompson Street New York 10012-3110 United States;X-APPLE-RADIUS=500;X-TITLE=145 Thompson Street:geo:-74.0012356,40.7269224
END:VEVENT
END:VCALENDAR