BEGIN:VCALENDAR
VERSION:2.0
PRODID:-//Bay Ridge Prep - ECPv6.15.20//NONSGML v1.0//EN
CALSCALE:GREGORIAN
METHOD:PUBLISH
X-WR-CALNAME:Bay Ridge Prep
X-ORIGINAL-URL:https://bayridgeprep.org
X-WR-CALDESC:Events for Bay Ridge Prep
REFRESH-INTERVAL;VALUE=DURATION:PT1H
X-Robots-Tag:noindex
X-PUBLISHED-TTL:PT1H
BEGIN:VTIMEZONE
TZID:America/New_York
BEGIN:DAYLIGHT
TZOFFSETFROM:-0500
TZOFFSETTO:-0400
TZNAME:EDT
DTSTART:20250309T070000
END:DAYLIGHT
BEGIN:STANDARD
TZOFFSETFROM:-0400
TZOFFSETTO:-0500
TZNAME:EST
DTSTART:20251102T060000
END:STANDARD
BEGIN:DAYLIGHT
TZOFFSETFROM:-0500
TZOFFSETTO:-0400
TZNAME:EDT
DTSTART:20260308T070000
END:DAYLIGHT
BEGIN:STANDARD
TZOFFSETFROM:-0400
TZOFFSETTO:-0500
TZNAME:EST
DTSTART:20261101T060000
END:STANDARD
BEGIN:DAYLIGHT
TZOFFSETFROM:-0500
TZOFFSETTO:-0400
TZNAME:EDT
DTSTART:20270314T070000
END:DAYLIGHT
BEGIN:STANDARD
TZOFFSETFROM:-0400
TZOFFSETTO:-0500
TZNAME:EST
DTSTART:20271107T060000
END:STANDARD
END:VTIMEZONE
BEGIN:VEVENT
DTSTART;VALUE=DATE:20260127
DTEND;VALUE=DATE:20260128
DTSTAMP:20260420T060733
CREATED:20250823T170245Z
LAST-MODIFIED:20251112T204810Z
UID:10002928-1769472000-1769558399@bayridgeprep.org
SUMMARY:Varsity Girls Basketball at Churchill (A)
DESCRIPTION:Varsity Girls Basketball at Churchill (A)
URL:https://bayridgeprep.org/event/varsity-girls-basketball-at-churchill-a-3/
LOCATION:Churchill School\, 301 E 29th Street\, New York\, 10016-8301\, United States
CATEGORIES:Basketball - Girls Varsity
GEO:40.7416279;-73.977541
X-APPLE-STRUCTURED-LOCATION;VALUE=URI;X-ADDRESS=Churchill School 301 E 29th Street New York 10016-8301 United States;X-APPLE-RADIUS=500;X-TITLE=301 E 29th Street:geo:-73.977541,40.7416279
END:VEVENT
BEGIN:VEVENT
DTSTART;TZID=America/New_York:20260127T154500
DTEND;TZID=America/New_York:20260127T154500
DTSTAMP:20260420T060733
CREATED:20251113T204754Z
LAST-MODIFIED:20260419T140302Z
UID:10003104-1769528700-1769528700@bayridgeprep.org
SUMMARY:Varsity Girls Basketball at Churchill (A)
DESCRIPTION:Varsity Girls Basketball at Churchill (A)
URL:https://bayridgeprep.org/event/varsity-girls-basketball-at-churchill-a-4/
LOCATION:Churchill School\, 301 E 29th Street\, New York\, 10016-8301\, United States
CATEGORIES:Basketball - Girls Varsity
GEO:40.7416279;-73.977541
X-APPLE-STRUCTURED-LOCATION;VALUE=URI;X-ADDRESS=Churchill School 301 E 29th Street New York 10016-8301 United States;X-APPLE-RADIUS=500;X-TITLE=301 E 29th Street:geo:-73.977541,40.7416279
END:VEVENT
END:VCALENDAR