BEGIN:VCALENDAR
VERSION:2.0
PRODID:-//Bay Ridge Prep - ECPv6.15.20//NONSGML v1.0//EN
CALSCALE:GREGORIAN
METHOD:PUBLISH
X-WR-CALNAME:Bay Ridge Prep
X-ORIGINAL-URL:https://bayridgeprep.org
X-WR-CALDESC:Events for Bay Ridge Prep
REFRESH-INTERVAL;VALUE=DURATION:PT1H
X-Robots-Tag:noindex
X-PUBLISHED-TTL:PT1H
BEGIN:VTIMEZONE
TZID:America/New_York
BEGIN:DAYLIGHT
TZOFFSETFROM:-0500
TZOFFSETTO:-0400
TZNAME:EDT
DTSTART:20250309T070000
END:DAYLIGHT
BEGIN:STANDARD
TZOFFSETFROM:-0400
TZOFFSETTO:-0500
TZNAME:EST
DTSTART:20251102T060000
END:STANDARD
BEGIN:DAYLIGHT
TZOFFSETFROM:-0500
TZOFFSETTO:-0400
TZNAME:EDT
DTSTART:20260308T070000
END:DAYLIGHT
BEGIN:STANDARD
TZOFFSETFROM:-0400
TZOFFSETTO:-0500
TZNAME:EST
DTSTART:20261101T060000
END:STANDARD
BEGIN:DAYLIGHT
TZOFFSETFROM:-0500
TZOFFSETTO:-0400
TZNAME:EDT
DTSTART:20270314T070000
END:DAYLIGHT
BEGIN:STANDARD
TZOFFSETFROM:-0400
TZOFFSETTO:-0500
TZNAME:EST
DTSTART:20271107T060000
END:STANDARD
END:VTIMEZONE
BEGIN:VEVENT
DTSTART;TZID=America/New_York:20260420T160000
DTEND;TZID=America/New_York:20260420T160000
DTSTAMP:20260421T084612
CREATED:20260305T121727Z
LAST-MODIFIED:20260420T134730Z
UID:10003242-1776700800-1776700800@bayridgeprep.org
SUMMARY:Varsity Softball vs Calhoun (H)
DESCRIPTION:Varsity Softball vs Calhoun (H)
URL:https://bayridgeprep.org/event/varsity-softball-vs-calhoun-h/
LOCATION:95th St & Shore Rd Softball Field 2
CATEGORIES:Softball - Varsity
END:VEVENT
BEGIN:VEVENT
DTSTART;VALUE=DATE:20260420
DTEND;VALUE=DATE:20260421
DTSTAMP:20260421T084612
CREATED:20251218T094735Z
LAST-MODIFIED:20260304T121718Z
UID:10003151-1776643200-1776729599@bayridgeprep.org
SUMMARY:Varsity Softball at Calhoun (A)
DESCRIPTION:Varsity Softball at Calhoun (A)
URL:https://bayridgeprep.org/event/varsity-softball-at-calhoun-a/
CATEGORIES:Softball - Varsity
END:VEVENT
BEGIN:VEVENT
DTSTART;TZID=America/New_York:20260416T160000
DTEND;TZID=America/New_York:20260416T160000
DTSTAMP:20260421T084612
CREATED:20260305T121727Z
LAST-MODIFIED:20260420T134730Z
UID:10003241-1776355200-1776355200@bayridgeprep.org
SUMMARY:Varsity Softball at Trevor Day (A)
DESCRIPTION:Varsity Softball at Trevor Day (A)
URL:https://bayridgeprep.org/event/varsity-softball-at-trevor-day-a-2/
LOCATION:Red Hook Softball Field 8
CATEGORIES:Softball - Varsity
END:VEVENT
BEGIN:VEVENT
DTSTART;VALUE=DATE:20260416
DTEND;VALUE=DATE:20260417
DTSTAMP:20260421T084612
CREATED:20251218T094735Z
LAST-MODIFIED:20260304T121718Z
UID:10003150-1776297600-1776383999@bayridgeprep.org
SUMMARY:Varsity Softball at Trevor Day (A)
DESCRIPTION:Varsity Softball at Trevor Day (A)
URL:https://bayridgeprep.org/event/varsity-softball-at-trevor-day-a/
LOCATION:Trevor Day School\, 312 E 95th Street\, New York\, 10128-5779\, United States
CATEGORIES:Softball - Varsity
GEO:40.7829356;-73.946774
X-APPLE-STRUCTURED-LOCATION;VALUE=URI;X-ADDRESS=Trevor Day School 312 E 95th Street New York 10128-5779 United States;X-APPLE-RADIUS=500;X-TITLE=312 E 95th Street:geo:-73.946774,40.7829356
END:VEVENT
BEGIN:VEVENT
DTSTART;TZID=America/New_York:20260413T154500
DTEND;TZID=America/New_York:20260413T154500
DTSTAMP:20260421T084612
CREATED:20260305T121727Z
LAST-MODIFIED:20260420T134730Z
UID:10003240-1776095100-1776095100@bayridgeprep.org
SUMMARY:Varsity Softball Double Header vs York Prep
DESCRIPTION:Varsity Softball Double Header vs York Prep
URL:https://bayridgeprep.org/event/varsity-softball-double-header-vs-york-prep-2/
LOCATION:Red Hook Softball Field #6
CATEGORIES:Softball - Varsity
END:VEVENT
BEGIN:VEVENT
DTSTART;VALUE=DATE:20260413
DTEND;VALUE=DATE:20260414
DTSTAMP:20260421T084612
CREATED:20251218T094734Z
LAST-MODIFIED:20260304T121718Z
UID:10003149-1776038400-1776124799@bayridgeprep.org
SUMMARY:Varsity Softball Double Header vs York Prep
DESCRIPTION:Varsity Softball Double Header vs York Prep
URL:https://bayridgeprep.org/event/varsity-softball-double-header-vs-york-prep/
CATEGORIES:Softball - Varsity
END:VEVENT
BEGIN:VEVENT
DTSTART;VALUE=DATE:20260409
DTEND;VALUE=DATE:20260410
DTSTAMP:20260421T084612
CREATED:20251218T094733Z
LAST-MODIFIED:20260420T134730Z
UID:10003148-1775692800-1775779199@bayridgeprep.org
SUMMARY:CANCELLED: Varsity Softball Double Header vs Dwigh
DESCRIPTION:CANCELLED: Varsity Softball Double Header vs Dwigh
URL:https://bayridgeprep.org/event/varsity-softball-double-header-vs-dwight/
CATEGORIES:Softball - Varsity
END:VEVENT
BEGIN:VEVENT
DTSTART;TZID=America/New_York:20260408T160000
DTEND;TZID=America/New_York:20260408T160000
DTSTAMP:20260421T084612
CREATED:20260305T121726Z
LAST-MODIFIED:20260420T134730Z
UID:10003239-1775664000-1775664000@bayridgeprep.org
SUMMARY:Varsity Softball vs Grace Church
DESCRIPTION:Varsity Softball vs Grace Church
URL:https://bayridgeprep.org/event/varsity-softball-vs-grace-church/
LOCATION:Red Hook Softball Field #6
CATEGORIES:Softball - Varsity
END:VEVENT
END:VCALENDAR